BEGIN:VCALENDAR
VERSION:2.0
PRODID:-//Garrity for Galway - ECPv6.15.17.1//NONSGML v1.0//EN
CALSCALE:GREGORIAN
METHOD:PUBLISH
X-ORIGINAL-URL:https://www.garrityforgalway.ie
X-WR-CALDESC:Events for Garrity for Galway
REFRESH-INTERVAL;VALUE=DURATION:PT1H
X-Robots-Tag:noindex
X-PUBLISHED-TTL:PT1H
BEGIN:VTIMEZONE
TZID:Europe/Dublin
BEGIN:STANDARD
TZOFFSETFROM:+0000
TZOFFSETTO:+0100
TZNAME:IST
DTSTART:20250330T010000
END:STANDARD
BEGIN:DAYLIGHT
TZOFFSETFROM:+0100
TZOFFSETTO:+0000
TZNAME:GMT
DTSTART:20251026T010000
END:DAYLIGHT
BEGIN:STANDARD
TZOFFSETFROM:+0000
TZOFFSETTO:+0100
TZNAME:IST
DTSTART:20260329T010000
END:STANDARD
BEGIN:DAYLIGHT
TZOFFSETFROM:+0100
TZOFFSETTO:+0000
TZNAME:GMT
DTSTART:20261025T010000
END:DAYLIGHT
BEGIN:STANDARD
TZOFFSETFROM:+0000
TZOFFSETTO:+0100
TZNAME:IST
DTSTART:20270328T010000
END:STANDARD
BEGIN:DAYLIGHT
TZOFFSETFROM:+0100
TZOFFSETTO:+0000
TZNAME:GMT
DTSTART:20271031T010000
END:DAYLIGHT
END:VTIMEZONE
BEGIN:VEVENT
DTSTART;TZID=Europe/Dublin:20260415T110000
DTEND;TZID=Europe/Dublin:20260423T120000
DTSTAMP:20260421T185403
CREATED:20260321T022650Z
LAST-MODIFIED:20260412T021449Z
UID:752-1776250800-1776945600@www.garrityforgalway.ie
SUMMARY:Knocknacarra Community Meeting
DESCRIPTION:Join us in in the west of Galway City to the community of Knocknacarra with its reputation of strong volunteerism supporting a large number of sports and community clubs and organisations. I look forward to learning about what is working well in Knocknacarra\, and how this community can be better supported – perhaps with public transport or traffic. We’ll be meeting at The Knocknacarra Community Center
URL:https://www.garrityforgalway.ie/event/knocknacarra-community-meeting/
LOCATION:Knocknacarra Community Center\, Cappagh Rd\, Galway\, Galway\, H91 R6PW\, Ireland
END:VEVENT
BEGIN:VEVENT
DTSTART;TZID=Europe/Dublin:20260429T110000
DTEND;TZID=Europe/Dublin:20260429T140000
DTSTAMP:20260421T185403
CREATED:20260420T054954Z
LAST-MODIFIED:20260420T055611Z
UID:781-1777460400-1777471200@www.garrityforgalway.ie
SUMMARY:Table Quiz Fundraiser for Sheila!
DESCRIPTION:Putting the FUN in FUNDRAISING for the Garrity for Galway campaign. Join us 29 April at Massimo’s in Galway’s West End. \nReserve your team* here.  \n*Individuals welcome \nBeidh Trá na gCeist againn freisin. Céad mile fáilte roimh gach duine.
URL:https://www.garrityforgalway.ie/event/table-quiz-fundraiser-for-sheila/
LOCATION:Massimo’s\, 10 William St\, Galway\, H91C2X3\, Ireland
END:VEVENT
END:VCALENDAR